BEGIN:VCALENDAR
VERSION:2.0
PRODID:-//https://www.visitbluemountains.com.au///NONSGML kigkonsult.se iCalcreator 2.10.15//
METHOD:PUBLISH
BEGIN:VEVENT
UID:20260422T061642GMT-5390zN6keo@https://www.visitbluemountains.com.au/
DTSTAMP:20260422T061642Z
DESCRIPTION:Fairmont Blue Mountains introduces Live Music Fridays\, a weekl
 y event celebrating local talent\, great food and relaxed community vibes.
  Each Friday from 6pm\, guests can enjoy live performances from emerging a
 rtists while indulging in freshly woodfired pizza and drink specials. Arri
 ve early for Local's Hour from 5 to 6pm\, featuring $10 whiskey pours and 
 $5 pizza slices. Whether you're winding down after a long week or catching
  up with friends\, this is your new go-to Friday ritual in the Mountains. 
 https://www.visitbluemountains.com.au/whats-on/event/2893-live-music-frida
 ys-at-two-doctors-whiskey-tavern
DTSTART:20251107T080000Z
DTEND:20261106T110000Z
LOCATION:1 Sublime Point Road\, Leura\, New South Wales\, 2780 (1 Sublime P
 oint Road\, Leura\, New South Wales\, 2780)
SUMMARY:Live Music Friday's at Two Doctor's Whiskey Tavern
URL:https://www.visitbluemountains.com.au/whats-on/event/2893-live-music-fr
 idays-at-two-doctors-whiskey-tavern
END:VEVENT
BEGIN:VEVENT
UID:20260422T061642GMT-5391jPsfE8@https://www.visitbluemountains.com.au/
DTSTAMP:20260422T061642Z
DESCRIPTION:Smell\, buy and taste wonderful regional food at the Blackheath
  Growers Market. Meet the growers and producers of a fantastic array of fo
 ods.The Market is run in the mornings until noon on the second Sunday of e
 ach month from February to December. https://www.visitbluemountains.com.au
 /whats-on/event/2960-blackheath-growers-market
DTSTART;VALUE=DATE:20260711
LOCATION:Corner of Gardiner Crescent and Great Western Highway\, Blackheath
 \, New South Wales\, 2785 ()
SUMMARY:Blackheath Growers Market
URL:https://www.visitbluemountains.com.au/whats-on/event/2960-blackheath-gr
 owers-market
END:VEVENT
BEGIN:VEVENT
UID:20260422T061642GMT-53928u10TZ@https://www.visitbluemountains.com.au/
DTSTAMP:20260422T061642Z
DESCRIPTION:Enjoy a unique and theatrical Traditional High Tea with a twist
 . Reminiscent of decades past\, enjoy even more decadence as Bygone Beauty
  presents Traditional High Tea Supreme. Step back in time for a unique and
  theatrical high tea reminiscent of decades past in a charming old-world d
 ining room. Upon arrival\, enjoy complimentary champagne in crystal flutes
  with mini quiches\, sausage rolls and vegetarian roulades. Then\, a grand
 ly presented silver service on an afternoon tea tray mobile. finely rolled
  crustless sandwiches\, an assortment of homemade tea cakes and biscuits\,
  baby scones with freshly whipped cream and strawberry jam and your choice
  of specialty loose leaf tea or coffee.With the addition of a hot first co
 urse and a complimentary glass of champagne (Non-alcoholic available) on a
 rrival\, this experience will add an extra touch of upper-class decadence 
 and also give guests a taste of the original High Tea\, which began around
  1825 and was originally a hearty meal that included several hot dishes ht
 tps://www.visitbluemountains.com.au/whats-on/event/3011-bygone-beautys-tra
 ditional-supreme-high-tea
DTSTART:20251215T010000Z
DTEND:20260831T060000Z
LOCATION:20-22 Grose Street\, Leura\, New South Wales\, 2780 (20-22 Grose S
 treet\, Leura\, New South Wales\, 2780)
SUMMARY:Bygone Beauty's Traditional Supreme High Tea
URL:https://www.visitbluemountains.com.au/whats-on/event/3011-bygone-beauty
 s-traditional-supreme-high-tea
END:VEVENT
BEGIN:VEVENT
UID:20260422T061642GMT-5394zVR48m@https://www.visitbluemountains.com.au/
DTSTAMP:20260422T061642Z
DESCRIPTION:Smell\, buy and taste wonderful regional food at the Blackheath
  Growers Market. Meet the growers and producers of a fantastic array of fo
 ods.The Market is run in the mornings until noon on the second Sunday of e
 ach month from February to December. https://www.visitbluemountains.com.au
 /whats-on/event/3134-blackheath-growers-market
DTSTART;VALUE=DATE:20260712
LOCATION:Corner of Gardiner Crescent and Great Western Highway\, Blackheath
 \, New South Wales\, 2785 ()
SUMMARY:Blackheath Growers Market
URL:https://www.visitbluemountains.com.au/whats-on/event/3134-blackheath-gr
 owers-market
END:VEVENT
BEGIN:VEVENT
UID:20260422T061642GMT-53951xrfmr@https://www.visitbluemountains.com.au/
DTSTAMP:20260422T061642Z
DESCRIPTION:This creative studio experience offers visitors the chance to s
 low down\, get hands-on and create something meaningful to take home. Set 
 in a relaxed\, welcoming environment\, the attraction features a rotating 
 program of small-group workshops inspired by nature\, texture and found ma
 terials.Visitors are guided step-by-step through the creative process\, wi
 th no prior experience needed. Workshops range from sculptural wire forms 
 and botanical pieces to seasonal and themed creations\, making it an ideal
  experience for individuals\, couples and small groups looking for somethi
 ng different to do while visiting the region.With a focus on mindful makin
 g\, quality materials and personal guidance\, this attraction provides a u
 nique opportunity to connect with creativity in a calm\, unrushed setting.
  Bookings are essential and places are limited to maintain an intimate\, p
 ersonalised experience. https://www.visitbluemountains.com.au/whats-on/eve
 nt/3211-garden-of-wire-creative-workshops
DTSTART:20260712T010000Z
DTEND:20260712T033000Z
LOCATION:87 Oberon Street\, Oberon\, New South Wales\, 2787 ()
SUMMARY:Garden of Wire Creative Workshops
URL:https://www.visitbluemountains.com.au/whats-on/event/3211-garden-of-wir
 e-creative-workshops
END:VEVENT
END:VCALENDAR
