BEGIN:VCALENDAR
VERSION:2.0
PRODID:-//https://www.visitbluemountains.com.au///NONSGML kigkonsult.se iCalcreator 2.10.15//
METHOD:PUBLISH
BEGIN:VEVENT
UID:20260423T130513GMT-37160MM53W@https://www.visitbluemountains.com.au/
DTSTAMP:20260423T130513Z
DESCRIPTION:Join professional forager Diego Bonetto as he takes you and you
 r family on a forest walk\, uncovering the details of where to look\, when
  to move and how to harvest edible mushrooms.Part treasure hunt\, part eco
 logical awakening\, this experience is like no other. The activity has bee
 n treasured for generations by the Eastern European and Mediterranean cult
 ures in Australia\, making it a seasonal must-do to share stories and lear
 n recipes.Expect a cheerful trip\, a learning experience\, an outing in th
 e magical pine forest\, and take home all the mushrooms that you find.Brin
 g suitable clothing and shoes\, water and snacks\, a knife and a basket an
 d your camera. They will provide a thorough tutorial on the what/how/where
  of mushroom foraging\, you will visit 2/3 different locations\, you will 
 collect mushrooms and they will quality control everyone’s harvest. You ca
 n take pictures and selfies with the loot. Barbeque tasting of fresh mushr
 ooms fried in oil with garlic and served with parsley and artisan sourdoug
 h\, in the forest.Too many mushrooms to go home with? You will have a box 
 each to bring home your lot! https://www.visitbluemountains.com.au/whats-o
 n/event/2642-mushroom-foraging-workshop-hampton
DTSTART:20260503T000000Z
DTEND:20260503T040000Z
LOCATION:Hampton\, New South Wales\, 2790 (Hampton\, New South Wales\, 2790
 )
SUMMARY:Mushroom Foraging Workshop - Hampton
URL:https://www.visitbluemountains.com.au/whats-on/event/2642-mushroom-fora
 ging-workshop-hampton
END:VEVENT
BEGIN:VEVENT
UID:20260423T130513GMT-37202IWuHm@https://www.visitbluemountains.com.au/
DTSTAMP:20260423T130513Z
DESCRIPTION:Fairmont Blue Mountains introduces Live Music Fridays\, a weekl
 y event celebrating local talent\, great food and relaxed community vibes.
  Each Friday from 6pm\, guests can enjoy live performances from emerging a
 rtists while indulging in freshly woodfired pizza and drink specials. Arri
 ve early for Local's Hour from 5 to 6pm\, featuring $10 whiskey pours and 
 $5 pizza slices. Whether you're winding down after a long week or catching
  up with friends\, this is your new go-to Friday ritual in the Mountains. 
 https://www.visitbluemountains.com.au/whats-on/event/2893-live-music-frida
 ys-at-two-doctors-whiskey-tavern
DTSTART:20251107T080000Z
DTEND:20261106T110000Z
LOCATION:1 Sublime Point Road\, Leura\, New South Wales\, 2780 (1 Sublime P
 oint Road\, Leura\, New South Wales\, 2780)
SUMMARY:Live Music Friday's at Two Doctor's Whiskey Tavern
URL:https://www.visitbluemountains.com.au/whats-on/event/2893-live-music-fr
 idays-at-two-doctors-whiskey-tavern
END:VEVENT
BEGIN:VEVENT
UID:20260423T130513GMT-3722nUdKuG@https://www.visitbluemountains.com.au/
DTSTAMP:20260423T130513Z
DESCRIPTION:Enjoy a unique and theatrical Traditional High Tea with a twist
 . Reminiscent of decades past\, enjoy even more decadence as Bygone Beauty
  presents Traditional High Tea Supreme. Step back in time for a unique and
  theatrical high tea reminiscent of decades past in a charming old-world d
 ining room. Upon arrival\, enjoy complimentary champagne in crystal flutes
  with mini quiches\, sausage rolls and vegetarian roulades. Then\, a grand
 ly presented silver service on an afternoon tea tray mobile. finely rolled
  crustless sandwiches\, an assortment of homemade tea cakes and biscuits\,
  baby scones with freshly whipped cream and strawberry jam and your choice
  of specialty loose leaf tea or coffee.With the addition of a hot first co
 urse and a complimentary glass of champagne (Non-alcoholic available) on a
 rrival\, this experience will add an extra touch of upper-class decadence 
 and also give guests a taste of the original High Tea\, which began around
  1825 and was originally a hearty meal that included several hot dishes ht
 tps://www.visitbluemountains.com.au/whats-on/event/3011-bygone-beautys-tra
 ditional-supreme-high-tea
DTSTART:20251215T010000Z
DTEND:20260831T060000Z
LOCATION:20-22 Grose Street\, Leura\, New South Wales\, 2780 (20-22 Grose S
 treet\, Leura\, New South Wales\, 2780)
SUMMARY:Bygone Beauty's Traditional Supreme High Tea
URL:https://www.visitbluemountains.com.au/whats-on/event/3011-bygone-beauty
 s-traditional-supreme-high-tea
END:VEVENT
BEGIN:VEVENT
UID:20260423T130513GMT-3725agvz67@https://www.visitbluemountains.com.au/
DTSTAMP:20260423T130513Z
DESCRIPTION:Bring your family and friends to Hartley Historic Site to enjoy
  a free open day for all ages. Come venture inside select historic buildin
 gs\, browse local markets\, get crafty in art sessions with Arts OutWest a
 nd bop along to live music.If you'd like to go on a guided walking tour\, 
 you can also make a booking with a discovery ranger and learn about the ri
 ch and layered history of this small town. Discover its significant and so
 metimes colourful role in the growth of the NSW colony and early tourism i
 n Australia. Then wander through quaint shopfronts and get to know local b
 usiness owners. Don't miss the popular Postmistress Cafe and Store\, Gold 
 Rush Antiques\, Talisman Gallery\, and the Hartley Visitor Centre and Kew-
 Y-Ahn Aboriginal Gallery.The outside grounds of Hartley Historic Site are 
 dog friendly\, provided dogs are always kept on a leash. Stretch your legs
  on the Rowsons River walking track or the Bells Rock Heritage walking tra
 ck.Be sure to book online to secure your place on one of the guided tours.
  https://www.visitbluemountains.com.au/whats-on/event/3179-hartley-discove
 ry-day
DTSTART:20260502T230000Z
DTEND:20260503T050000Z
LOCATION:51 Old Great Western Highway\, Hartley\, New South Wales\, 2790 ()
SUMMARY:Hartley discovery day
URL:https://www.visitbluemountains.com.au/whats-on/event/3179-hartley-disco
 very-day
END:VEVENT
BEGIN:VEVENT
UID:20260423T130513GMT-3727ULCfIv@https://www.visitbluemountains.com.au/
DTSTAMP:20260423T130513Z
DESCRIPTION:Join them for a unique masterclass experience with renowned mus
 hroom expert\, Alison Pouliot. This masterclass is a deep dive into the fu
 ngi kingdom and will expand your knowledge of both edible and interesting 
 fungi species. Prior basic mushroom foraging experience is required. Aliso
 n Pouliot is arguably one of the most knowledgeable people in Australia wh
 en it comes to wild mushrooms. Her book\,  Wild Mushrooming\, is the go-to
  guide for anyone wanting to investigate how to identify\, collect and eat
  wild mushrooms in Australia. They are humbled to host three masterclasses
  with Alison this year and create an experience that is a rare offering on
  the wild food calendar. Alison has run workshops\, and seminars in Austra
 lia and overseas\, and published articles and books on the subject of fung
 i for over two decades\, but rarely offers actual harvesting during her wo
 rkshops. For this masterclass\, we will not only learn from Alison about t
 he role of fungi in the landscape but also harvest\, identify and take hom
 e the desirable varieties\, identified and confirmed by Alison herself. Th
 is masterclass is designed specifically for those who already have experie
 nce in harvesting edible mushrooms and are eager to expand their knowledge
  with one of the most respected experts in the field. https://www.visitblu
 emountains.com.au/whats-on/event/3309-mushroom-foraging-masterclass-with-a
 lison-pouliot
DTSTART:20260503T000000Z
DTEND:20260503T040000Z
LOCATION:Hampton\, New South Wales\, 2790 (Hampton\, New South Wales\, 2790
 )
SUMMARY:Mushroom Foraging Masterclass with Alison Pouliot
URL:https://www.visitbluemountains.com.au/whats-on/event/3309-mushroom-fora
 ging-masterclass-with-alison-pouliot
END:VEVENT
BEGIN:VEVENT
UID:20260423T130513GMT-3729n6ZZuH@https://www.visitbluemountains.com.au/
DTSTAMP:20260423T130513Z
DESCRIPTION:As part of the Hartley Discover Day\, artists led by Renata Com
 misso and Cate McCarthy\, will be running workshops for children aged 4+ f
 ollowed by a street parade.Inspired by the local native birdlife\, childre
 n (and their adults) will make\, paint and create their very own bird to t
 ake home. Once made\, their movement and performing artists will guide the
  children in exploring how their bird moves. Workshops run for 1 hour.All 
 workshop participants are invited to bring their bird and join a street pa
 rade led by a giant bird puppet — a fun way to be an active part of the da
 y!No experience needed - just some curiosity.This activity has been made p
 ossible by the generous support of Regional Arts NSW\, Arts OutWest\, NSW 
 National Parks & Wildlife Service\, LINC and Milk Crate Theatre. https://w
 ww.visitbluemountains.com.au/whats-on/event/3348-lets-fly-to-hartley-kids-
 workshops-and-parade
DTSTART:20260503T010000Z
DTEND:20260503T044500Z
LOCATION:Old Great Western Highway\, Hartley\, New South Wales\, 2790 ()
SUMMARY:Let's Fly to Hartley Kids Workshops and Parade
URL:https://www.visitbluemountains.com.au/whats-on/event/3348-lets-fly-to-h
 artley-kids-workshops-and-parade
END:VEVENT
BEGIN:VEVENT
UID:20260423T130513GMT-3730jD0fUt@https://www.visitbluemountains.com.au/
DTSTAMP:20260423T130513Z
DESCRIPTION:As part of the Hartley Discover Day\, artists led by Renata Com
 misso and Cate McCarthy\, will be running workshops for children aged 4+ f
 ollowed by a street parade.Inspired by the local native birdlife\, childre
 n (and their adults) will make\, paint and create their very own bird to t
 ake home. Once made\, their movement and performing artists will guide the
  children in exploring how their bird moves. Workshops run for 1 hour.All 
 workshop participants are invited to bring their bird and join a street pa
 rade led by a giant bird puppet — a fun way to be an active part of the da
 y!No experience needed - just some curiosity.This activity has been made p
 ossible by the generous support of Regional Arts NSW\, Arts OutWest\, NSW 
 National Parks & Wildlife Service\, LINC and Milk Crate Theatre. https://w
 ww.visitbluemountains.com.au/whats-on/event/3349-lets-fly-to-hartley-kids-
 workshops-and-parade
DTSTART:20260503T030000Z
DTEND:20260503T040000Z
LOCATION:Old Great Western Highway\, Hartley\, New South Wales\, 2790 ()
SUMMARY:Let's Fly to Hartley Kids Workshops and Parade
URL:https://www.visitbluemountains.com.au/whats-on/event/3349-lets-fly-to-h
 artley-kids-workshops-and-parade
END:VEVENT
END:VCALENDAR
