BEGIN:VCALENDAR
VERSION:2.0
PRODID:-//https://www.visitbluemountains.com.au///NONSGML kigkonsult.se iCalcreator 2.10.15//
METHOD:PUBLISH
BEGIN:VEVENT
UID:20260420T114139GMT-5840gMXPUW@https://www.visitbluemountains.com.au/
DTSTAMP:20260420T114139Z
DESCRIPTION:Field to Forest returns to Oberon with a month-long array of ac
 tivities in and around the Oberon region that explore the delicacies and r
 are finds that one can forage for across the region. The activities includ
 e specialized forage tours for wild mushrooms\, secluded forest lunches\, 
 wine trails and workshops with experts recounting their skills and know-ho
 w on foraging in the forest and the history behind foraging and the forest
 s themselves. There will also be some information on the other fungi\, the
  elusive and highly sought-after truffle delivered by one of the long-stan
 ding local growers.This event has a finale with a 'Producers Table Dinner'
   at the Malachai Hall\, where a meal produced from local products is show
 cased and the growers themselves take you on a journey of discovery on wha
 t goes into producing these regional delicacies.  All of this while enjoyi
 ng the fabulous sounds of a quartet of some elite Australian musicians. ht
 tps://www.visitbluemountains.com.au/whats-on/event/2590-field-to-forest-fe
 stival-oberon
DTSTART:20260327T230000Z
DTEND:20260430T070000Z
LOCATION:48 Ross Street\, Oberon\, New South Wales\, 2787 (48 Ross Street\,
  Oberon\, New South Wales\, 2787)
SUMMARY:Field to Forest Festival Oberon
URL:https://www.visitbluemountains.com.au/whats-on/event/2590-field-to-fore
 st-festival-oberon
END:VEVENT
BEGIN:VEVENT
UID:20260420T114139GMT-5842U0KE0D@https://www.visitbluemountains.com.au/
DTSTAMP:20260420T114139Z
DESCRIPTION:Fairmont Blue Mountains introduces Live Music Fridays\, a weekl
 y event celebrating local talent\, great food and relaxed community vibes.
  Each Friday from 6pm\, guests can enjoy live performances from emerging a
 rtists while indulging in freshly woodfired pizza and drink specials. Arri
 ve early for Local's Hour from 5 to 6pm\, featuring $10 whiskey pours and 
 $5 pizza slices. Whether you're winding down after a long week or catching
  up with friends\, this is your new go-to Friday ritual in the Mountains. 
 https://www.visitbluemountains.com.au/whats-on/event/2893-live-music-frida
 ys-at-two-doctors-whiskey-tavern
DTSTART:20251107T080000Z
DTEND:20261106T110000Z
LOCATION:1 Sublime Point Road\, Leura\, New South Wales\, 2780 (1 Sublime P
 oint Road\, Leura\, New South Wales\, 2780)
SUMMARY:Live Music Friday's at Two Doctor's Whiskey Tavern
URL:https://www.visitbluemountains.com.au/whats-on/event/2893-live-music-fr
 idays-at-two-doctors-whiskey-tavern
END:VEVENT
BEGIN:VEVENT
UID:20260420T114139GMT-5845EcU0B4@https://www.visitbluemountains.com.au/
DTSTAMP:20260420T114139Z
DESCRIPTION:Smell\, buy and taste wonderful regional food at the Springwood
  Growers Market. Meet the Growers and Producers of the fantastic array of 
 foods.\n\nSupporting local Farmers and Producers. You will see that what y
 ou buy is fresh and lasts. Tantalising your tastebuds with fresh Australia
 n foods is wonderful. Come out\, buy fresh produce and show your support.
 \n\n https://www.visitbluemountains.com.au/whats-on/event/2945-springwood-
 growers-market
DTSTART;VALUE=DATE:20260425
LOCATION:106-108 Macquarie Road\, Springwood\, New South Wales\, 2777 (106-
 108 Macquarie Road\, Springwood\, New South Wales\, 2777)
SUMMARY:Springwood Growers Market
URL:https://www.visitbluemountains.com.au/whats-on/event/2945-springwood-gr
 owers-market
END:VEVENT
BEGIN:VEVENT
UID:20260420T114139GMT-5846rXEj78@https://www.visitbluemountains.com.au/
DTSTAMP:20260420T114139Z
DESCRIPTION:Enjoy a unique and theatrical Traditional High Tea with a twist
 . Reminiscent of decades past\, enjoy even more decadence as Bygone Beauty
  presents Traditional High Tea Supreme. Step back in time for a unique and
  theatrical high tea reminiscent of decades past in a charming old-world d
 ining room. Upon arrival\, enjoy complimentary champagne in crystal flutes
  with mini quiches\, sausage rolls and vegetarian roulades. Then\, a grand
 ly presented silver service on an afternoon tea tray mobile. finely rolled
  crustless sandwiches\, an assortment of homemade tea cakes and biscuits\,
  baby scones with freshly whipped cream and strawberry jam and your choice
  of specialty loose leaf tea or coffee.With the addition of a hot first co
 urse and a complimentary glass of champagne (Non-alcoholic available) on a
 rrival\, this experience will add an extra touch of upper-class decadence 
 and also give guests a taste of the original High Tea\, which began around
  1825 and was originally a hearty meal that included several hot dishes ht
 tps://www.visitbluemountains.com.au/whats-on/event/3011-bygone-beautys-tra
 ditional-supreme-high-tea
DTSTART:20251215T010000Z
DTEND:20260831T060000Z
LOCATION:20-22 Grose Street\, Leura\, New South Wales\, 2780 (20-22 Grose S
 treet\, Leura\, New South Wales\, 2780)
SUMMARY:Bygone Beauty's Traditional Supreme High Tea
URL:https://www.visitbluemountains.com.au/whats-on/event/3011-bygone-beauty
 s-traditional-supreme-high-tea
END:VEVENT
BEGIN:VEVENT
UID:20260420T114139GMT-584741X59p@https://www.visitbluemountains.com.au/
DTSTAMP:20260420T114139Z
DESCRIPTION:Smell\, buy and taste wonderful regional food at the Springwood
  Growers Market. Meet the Growers and Producers of the fantastic array of 
 foods.\n\nSupporting local Farmers and Producers. You will see that what y
 ou buy is fresh and lasts. Tantalising your tastebuds with fresh Australia
 n foods is wonderful. Come out\, buy fresh produce and show your support.
 \n\n https://www.visitbluemountains.com.au/whats-on/event/3073-springwood-
 growers-market
DTSTART;VALUE=DATE:20260425
LOCATION:106-108 Macquarie Road\, Springwood\, New South Wales\, 2777 (106-
 108 Macquarie Road\, Springwood\, New South Wales\, 2777)
SUMMARY:Springwood Growers Market
URL:https://www.visitbluemountains.com.au/whats-on/event/3073-springwood-gr
 owers-market
END:VEVENT
BEGIN:VEVENT
UID:20260420T114139GMT-5848OcONUz@https://www.visitbluemountains.com.au/
DTSTAMP:20260420T114139Z
DESCRIPTION:Join a guided wild mushroom foraging tour with an experienced l
 icenced forager for a great opportunity to learn how to find\, pick and pr
 ocess wild edible mushrooms.The meeting place is Millionth Acre Recreation
  Area at Hampton beyond the Blue Mountains and from there is just a short 
 drive into one of nearby State Forests to harvest precious nature's gift -
  wild mushrooms.The guide will teach how to identify and collect edible mu
 shrooms\, then will process them to cook a scrumptious lunch and explain h
 ow to preserve the bounty. She will also run a safety check of each foragi
 ng basket.The participants will take home what they found. Moreover\, they
  will gain confidence to safely recognise two varieties of wild edible mus
 hrooms which will allow them to go to the pine forests to collect these mu
 shrooms in years to come! https://www.visitbluemountains.com.au/whats-on/e
 vent/3171-wild-mushroom-hunts
DTSTART:20260425T233000Z
DTEND:20260426T043000Z
LOCATION:Millionth Acre Recreation Area\, cnr Jenolan Caves Rd and Duckmalo
 i Road\, Hampton\, New South Wales\, 2790 (Millionth Acre Recreation Area\
 , cnr Jenolan Caves Rd and Duckmaloi Road\, Hampton\, New South Wales\, 27
 90)
SUMMARY:Wild Mushroom Hunts
URL:https://www.visitbluemountains.com.au/whats-on/event/3171-wild-mushroom
 -hunts
END:VEVENT
BEGIN:VEVENT
UID:20260420T114139GMT-5850JgzvMa@https://www.visitbluemountains.com.au/
DTSTAMP:20260420T114139Z
DESCRIPTION:Smell\, buy and taste wonderful regional food at the Springwood
  Growers Market. Meet the Growers and Producers of the fantastic array of 
 foods.\n\nSupporting local Farmers and Producers. You will see that what y
 ou buy is fresh and lasts. Tantalising your tastebuds with fresh Australia
 n foods is wonderful. Come out\, buy fresh produce and show your support.
 \n\n https://www.visitbluemountains.com.au/whats-on/event/3182-springwood-
 growers-market
DTSTART;VALUE=DATE:20260426
LOCATION:106-108 Macquarie Road\, Springwood\, New South Wales\, 2777 (106-
 108 Macquarie Road\, Springwood\, New South Wales\, 2777)
SUMMARY:Springwood Growers Market
URL:https://www.visitbluemountains.com.au/whats-on/event/3182-springwood-gr
 owers-market
END:VEVENT
BEGIN:VEVENT
UID:20260420T114139GMT-5851k83Cel@https://www.visitbluemountains.com.au/
DTSTAMP:20260420T114139Z
DESCRIPTION:This creative studio experience offers visitors the chance to s
 low down\, get hands-on and create something meaningful to take home. Set 
 in a relaxed\, welcoming environment\, the attraction features a rotating 
 program of small-group workshops inspired by nature\, texture and found ma
 terials.Visitors are guided step-by-step through the creative process\, wi
 th no prior experience needed. Workshops range from sculptural wire forms 
 and botanical pieces to seasonal and themed creations\, making it an ideal
  experience for individuals\, couples and small groups looking for somethi
 ng different to do while visiting the region.With a focus on mindful makin
 g\, quality materials and personal guidance\, this attraction provides a u
 nique opportunity to connect with creativity in a calm\, unrushed setting.
  Bookings are essential and places are limited to maintain an intimate\, p
 ersonalised experience. https://www.visitbluemountains.com.au/whats-on/eve
 nt/3200-garden-of-wire-creative-workshops
DTSTART:20260426T010000Z
DTEND:20260426T033000Z
LOCATION:87 Oberon Street\, Oberon\, New South Wales\, 2787 ()
SUMMARY:Garden of Wire Creative Workshops
URL:https://www.visitbluemountains.com.au/whats-on/event/3200-garden-of-wir
 e-creative-workshops
END:VEVENT
BEGIN:VEVENT
UID:20260420T114139GMT-5852m4K4N1@https://www.visitbluemountains.com.au/
DTSTAMP:20260420T114139Z
DESCRIPTION:Do not miss this bespoke celebration of our much-loved Australi
 an composer Ross Edwards—a vivid homage to Mother Earth in summer. His evo
 cative music brings together six exceptional singers: Susannah Lawergren\,
  Jessica O'Donoghue\, Andrew O'Connor\, Susie Bishop\, Geoffrey Webb and P
 hilip Murray. They are joined by a remarkable instrumental ensemble—Riley 
 Lee (shakuhachi)\, Louise Johnson (harp)\, Julian Smiles(cello) and Timoth
 y Constable (percussion)—under the baton of composer\, musicologist and fo
 unding director of the Sydney Chamber Choir\, Nicholas RoutleySuite from V
 espers for Mother Earth—originally scored for eight singers and a large in
 strumental ensemble—has been especially re-written by Edwards for this cur
 ated and never-heard-before\, spine-tingling performance.'Terra Mater Aest
 iva' promises a deeply moving finale—a stunning way to draw the BCMF26 to 
 a close. https://www.visitbluemountains.com.au/whats-on/event/3311-blackhe
 ath-chamber-music-festival-concert-7-terra-mater-aestiva
DTSTART:20260426T073000Z
DTEND:20260426T083000Z
LOCATION:41 Gardiner Crescent\, Blackheath\, New South Wales\, 2785 (41 Gar
 diner Crescent\, Blackheath\, New South Wales\, 2785)
SUMMARY:Blackheath Chamber Music Festival: Concert 7 Terra Mater Aestiva
URL:https://www.visitbluemountains.com.au/whats-on/event/3311-blackheath-ch
 amber-music-festival-concert-7-terra-mater-aestiva
END:VEVENT
BEGIN:VEVENT
UID:20260420T114139GMT-5854OlJNeN@https://www.visitbluemountains.com.au/
DTSTAMP:20260420T114139Z
DESCRIPTION:Join Joshua Batty (flute) with Amanda Verner (viola) and Louise
  Johnson (harp) for a reflective morning of chamber music. Blending the ev
 ocative tone colours of flute\, viola and harp\, this program offers an in
 vitation to be still\, listen\, and experience gorgeous music from the ins
 ide out.  The concert features music by Claude Debussy\, including his imm
 ortal Clair de Lune\; Toru Takemitsu\, Japan's more important 20th century
  composer\; contemporary composer Nicholas Routley\, and Arnold Bax\, a ke
 y figure in the Celtic revival of the early 20th century. In the autumnal 
  grandeur of the mountain village of Blackheath\, you can enjoy great rest
 aurants\, cafes and views\, all within a short distance of the railway sta
 tion\, which offers a comfortable hourly service to Sydney. Check https://
 transportnsw.info/trip-planner for details of trains and any outages. http
 s://www.visitbluemountains.com.au/whats-on/event/3312-blackheath-chamber-m
 usic-festival-concert-5-introspection
DTSTART:20260426T010000Z
DTEND:20260426T021000Z
LOCATION:41 Gardiner Crescent\, Blackheath\, New South Wales\, 2785 (41 Gar
 diner Crescent\, Blackheath\, New South Wales\, 2785)
SUMMARY:Blackheath Chamber Music Festival: Concert 5 Introspection
URL:https://www.visitbluemountains.com.au/whats-on/event/3312-blackheath-ch
 amber-music-festival-concert-5-introspection
END:VEVENT
BEGIN:VEVENT
UID:20260420T114139GMT-5855RAcRK5@https://www.visitbluemountains.com.au/
DTSTAMP:20260420T114139Z
DESCRIPTION:An electrifying ensemble of acclaimed Sydney Symphony Orchestra
  principal Wind Soloists will present a lively journey through this Sunday
  afternoon concert\, brimming with rhythmic vitality and vivid storytellin
 g\, and the unmistakable charm of this wind ensemble. Including works by P
 iazolla\, Ravel\, Edwards and Janacek\, this concert will be a delight. ht
 tps://www.visitbluemountains.com.au/whats-on/event/3313-blackheath-chamber
 -music-festival-concert-6-danses-de-jeunesse
DTSTART:20260426T040000Z
DTEND:20260426T051000Z
LOCATION:41 Gardiner Crescent\, Blackheath\, New South Wales\, 2785 (41 Gar
 diner Crescent\, Blackheath\, New South Wales\, 2785)
SUMMARY:Blackheath Chamber Music Festival: Concert 6 Danses de Jeunesse
URL:https://www.visitbluemountains.com.au/whats-on/event/3313-blackheath-ch
 amber-music-festival-concert-6-danses-de-jeunesse
END:VEVENT
END:VCALENDAR
